BEGIN:VCALENDAR
METHOD:PUBLISH
PRODID:Microsoft Exchange Server 2010
VERSION:2.0
BEGIN:VTIMEZONE
TZID:tzone://Microsoft/Utc
BEGIN:STANDARD
DTSTART:16010101T000000
TZOFFSETFROM:+0000
TZOFFSETTO:+0000
END:STANDARD
BEGIN:DAYLIGHT
DTSTART:16010101T000000
TZOFFSETFROM:+0000
TZOFFSETTO:+0000
END:DAYLIGHT
END:VTIMEZONE
BEGIN:VEVENT
ORGANIZER;CN=agenda@chilowe.com:mailto:agenda@chilowe.com
DESCRIPTION:Le Festival Chilowé\, c’est le festival dédié à la nature
  et l’aventure : 2 jours de rencontres\, de projections\, de conférence
 s\, d’ateliers pour un shoot de nature au cœur de Paris.\n\nUn festival
  gratuit pour tous ceux qui aspirent à un mode de vie plus nature\, plus 
 local et plus joyeux.\n\nRamenez-vous 🔥\nLa team Chilowé\n\n
UID:040000008200E00074C5B7101A82E008000000005E2E3BA95024D901000000000000000
 010000000E37EBAF3CAED174492EA9469A569968B
SUMMARY:Festival Chilowé 🏕
DTSTART:20230610T090000Z
DTEND:20230611T170000Z
CLASS:PUBLIC
PRIORITY:5
DTSTAMP:20230109T173457Z
TRANSP:OPAQUE
STATUS:CONFIRMED
LOCATION;ALTREP="https://www.bingapis.com/api/v6/localbusinesses/YN2000x7132
 306225977794263?setLang=fr":Fondation Goodplanet
X-MICROSOFT-CDO-BUSYSTATUS:BUSY
X-MICROSOFT-CDO-INTENDEDSTATUS:BUSY
X-MICROSOFT-CDO-ALLDAYEVENT:FALSE
X-MICROSOFT-CDO-IMPORTANCE:1
X-MICROSOFT-CDO-INSTTYPE:0
X-MICROSOFT-ONLINEMEETINGEXTERNALLINK:
X-MICROSOFT-ONLINEMEETINGCONFLINK:
X-MICROSOFT-DONOTFORWARDMEETING:FALSE
X-MICROSOFT-DISALLOW-COUNTER:TRUE
X-MICROSOFT-LOCATIONDISPLAYNAME:Fondation Goodplanet
X-MICROSOFT-LOCATIONSOURCE:LocationServices
X-MICROSOFT-LOCATIONURI:https://www.bingapis.com/api/v6/localbusinesses/YN2
 000x7132306225977794263?setLang=fr
X-MICROSOFT-LATITUDE:48.8653
X-MICROSOFT-LONGITUDE:2.23812
X-MICROSOFT-LOCATIONSTREET:DOM De Longchamp CARR Longchamp
X-MICROSOFT-LOCATIONCITY:Paris
X-MICROSOFT-LOCATIONSTATE:75
X-MICROSOFT-LOCATIONCOUNTRY:France
BEGIN:VALARM
DESCRIPTION:REMINDER
TRIGGER;RELATED=START:-P1D
ACTION:DISPLAY
END:VALARM
END:VEVENT
END:VCALENDAR
